BEGIN:VCALENDAR
VERSION:2.0
PRODID:-//Combat Vets 10-2 - ECPv6.15.20//NONSGML v1.0//EN
CALSCALE:GREGORIAN
METHOD:PUBLISH
X-WR-CALNAME:Combat Vets 10-2
X-ORIGINAL-URL:https://combatvetstulsa.com
X-WR-CALDESC:Events for Combat Vets 10-2
REFRESH-INTERVAL;VALUE=DURATION:PT1H
X-Robots-Tag:noindex
X-PUBLISHED-TTL:PT1H
BEGIN:VTIMEZONE
TZID:UTC
BEGIN:STANDARD
TZOFFSETFROM:+0000
TZOFFSETTO:+0000
TZNAME:UTC
DTSTART:20250101T000000
END:STANDARD
END:VTIMEZONE
BEGIN:VEVENT
DTSTART;TZID=UTC:20260423T190000
DTEND;TZID=UTC:20260423T230000
DTSTAMP:20260423T092729
CREATED:20260422T205125Z
LAST-MODIFIED:20260422T205125Z
UID:846-1776970800-1776985200@combatvetstulsa.com
SUMMARY:Weekly Choir Practice
DESCRIPTION:We don’t sing. It is about hanging out and having fun. Location TBD. Contact chapter on WhatsApp for more information.
URL:https://combatvetstulsa.com/event/weekly-choir-practice/
END:VEVENT
BEGIN:VEVENT
DTSTART;TZID=UTC:20260424T000000
DTEND;TZID=UTC:20260425T235959
DTSTAMP:20260423T092729
CREATED:20260422T213235Z
LAST-MODIFIED:20260422T213235Z
UID:918-1776988800-1777161599@combatvetstulsa.com
SUMMARY:CVMA® MO 4-11 Luau All Patriot Run (APR) Poker Run
DESCRIPTION:Meet & Greet Friday\, April 24\, with Poker Run Saturday\, April 25. \nSee flyer for details.
URL:https://combatvetstulsa.com/event/cvma-mo-4-11-luau-all-patriot-run-apr-poker-run/
CATEGORIES:CVMA Events,Poker Run
END:VEVENT
BEGIN:VEVENT
DTSTART;TZID=UTC:20260425T103000
DTEND;TZID=UTC:20260425T170000
DTSTAMP:20260423T092729
CREATED:20260422T212600Z
LAST-MODIFIED:20260422T212600Z
UID:909-1777113000-1777136400@combatvetstulsa.com
SUMMARY:"F Cancer" Chopz Poker Run
DESCRIPTION:Chopz Poker Run \n 
URL:https://combatvetstulsa.com/event/f-cancer-chopz-poker-run/
LOCATION:Pittsburgh\, KS\, Pittsburgh\, KS
CATEGORIES:Poker Run
END:VEVENT
BEGIN:VEVENT
DTSTART;TZID=UTC:20260430T190000
DTEND;TZID=UTC:20260430T230000
DTSTAMP:20260423T092729
CREATED:20260422T205125Z
LAST-MODIFIED:20260422T205125Z
UID:847-1777575600-1777590000@combatvetstulsa.com
SUMMARY:Weekly Choir Practice
DESCRIPTION:We don’t sing. It is about hanging out and having fun. Location TBD. Contact chapter on WhatsApp for more information.
URL:https://combatvetstulsa.com/event/weekly-choir-practice-2/
END:VEVENT
END:VCALENDAR